Workbook

Sheet Notice - A lire !
K1: V 1
C2: Explication sur l"usage de la colonne C (Administrateurs) de l'Onglet "Adhérents" En tant que membre, l'organisation ou l'entrepise est représentée par : > Son Représentant (c'est la personne qui signe le Bulletin Adhésion Membre) > Son Administrateur Titulaire > Ses Administrateurs Suppléants (Facultatif, jusqu’à 2 suppléants peuvent être nommés) Représentants et Administrateurs ont des rôles particuliers concernant le fonctionnement de l’AFIS. Conseil d’Administration => Administrateurs > L’Administrateur Titulaire représente le membre lors des Conseil d’Administration qui ont lieu au minium 4 fois par an. En cas d’indisponibilité, L’Administrateur Titulaire peut se faire remplacer par un Administrateur Suppléant ou un autre adhérent de l’entreprise membre. > Les liens Internet pour les votes électroniques sont envoyés à l’Administrateur Titulaire uniquement qui se chargera de le faire suivre à son remplaçant en cas de besoin. Assemblée Générale => Représentant > Le Représentant représente le membre lors des Assemblés Générales qui a lieu au moins une fois par an. > Le Représentant peut se faire représenter en cas d’indisponibilité, en général par un Administrateur. > Les liens Internet pour les votes électroniques sont envoyés au Représentant uniquement qui se chargera de le faire suivre à son remplaçant en cas de besoin.
C3: Explication sur l’usage de la colonne D (Type d'Adhésion) de l'Onglet "Adhérents"
D5: Nb Maxi d'adhésions | I5: Prix d'une adhésions supplémentaires | J5: Permet de maintenir sa certification INCOSE active
C6: Type d'adhésion | D6: GG | E6: ETI | F6: PME | G6: TPE | H6: E&R
C7: Associée AFIS seule | Gratuit | D7: 250 | E7: 250 | F7: 250 | G7: 250 | H7: 250 | I7: n/a | J7: NON
C8: Double AFIS+INCOSE |Incluses | D8: 15 | E8: 10 | F8: 5 | G8: 3 | H8: 10 | I8: n/a | J8: OUI
C9: Double AFIS+INCOSE |Supplémentaire -Tarif réduit | D9: 50 | E9: 10 | F9: 15 | G9: 10 | H9: 30 | I9: =Paramètres!C16 -> 130 | J9: OUI
C10: Double AFIS+INCOSE |Supplémentaire - Plein tarif | D10: n/a | E10: n/a | F10: n/a | G10: n/a | H10: n/a | I10: =Paramètres!C15 -> 158 | J10: OUI
C11: Double AFIS+INCOSE |Supplémentaire - Etudiant | D11: n/a | E11: n/a | F11: n/a | G11: n/a | H11: n/a | I11: =Paramètres!D15 -> 43 | J11: OUI
C12: Cotisations Membre | D12: =Paramètres!E8 -> 12351 | E12: =Paramètres!E9 -> 8234 | F12: =Paramètres!E10 -> 2922 | G12: =Paramètres!E11 -> 1297 | H12: =Paramètres!E12 -> 1387

Sheet Bulletin Adhésion Membre
B11: Bulletin d'adhésion AFIS en qualité de Membre - 2027
B13: Formulaire renseigné et signé à adresser par courriel à afis@afis.fr et secretaire@afis.fr (permanence AFIS et Secrétaire Général)
B15: Représentant de l'Entreprise ou de l'Organisme
C16: Civilité*
C17: Nom* | L17: Les cellules surlignées en jaune sont à remplir obligatoirement
C18: Prénom*
C19: Fonction*
C20: Entreprise / Organisme *
C21: Téléphone*
C22: Adresse courriel*
B23: > Je déclare avoir, dans le cadre de mes attributions professionnelles, la capacité de faire adhérer l’entreprise / l’organisme
B24: =IF(E20="","",E20) | F24: en tant que membre de l’AFIS, et de représenter cette entreprise / cet organisme à l’AFIS.
B25: > Je déclare vouloir faire adhérer l’entreprise / l’organisme à l’AFIS et avoir pris connaissance des Statuts et du Règlement Intérieur de l’association en vigueur.
C26: Case à cocher validant les déclarations et la prise de connaissance des Statuts et du Règlement Intérieur de l’association en vigueur (consultables sur https://www.afis.fr/nous-connaitre/notre-organisation/)
B28: Adhésion => Remplir la feuille "Adhérents" voir aussi les explications détraillée dans la feuille "Notice - A lire"
B29: > Votre adhésion en tant qu'organisation Membre vous donne droit à des adhésions individuelles: - 250 "Adhésions Associé AFIS": Ces personnes sont adhérentes de l'AFIS, mais ne sont pas adhérentes de l'INCOSE (non suffisant pour maintenir sa certification INCOSE) - Un nombre d'"Adhésions Double AFIS+INCOSE". Ces personnes sont à la fois adhérentes de l'AFIS et de l'INCOSE. o Gratuites (entre 3 et 15 selon votre collège) o à Tarif réduit au delà des adhésion gratuite entre 10 et 50 selon votre collège. A delà de cette limite les adhésions sont compté à plein tarif. o au Tarif Etudiant
B30: > Votre adhésion doit correspondre à votre "collège": | F30: Mon collège* :
C32: Adhésion Membre
C33: Type d'Adhésion | F33: Nb salariés | G33: Chiffre d'Affaire | H33: Seuils Adhésions individuelles | K33: Montant de la cotisation Membre | M33: A payer
H34: INCOSE / AFIS Incluses | I34: INCOSE / AFIS Tarif Réduit | J34: AFIS seule Gratuit | K34: HT | L34: TTC (20%) | M34: TOTAL HT | N34: TOTAL TTC (20%)
C35: GG | D35: Grands Groupes | F35: 5000 | G35: ³ 1500 M€ | H35: =Paramètres!C8 -> 15 | I35: =Paramètres!D8 -> 50 | J35: 250 | K35: =Paramètres!E8 -> 12351 | L35: =TRUNC(K35*1.2) -> 14821 | M35: =IF($G$30=C35,K35,0) -> 0 | N35: =M35*1.2 -> 0
C36: ETI | D36: Entreprises de Taille Intermédiaire | F36: 251 à 4999 | G36: < 1500 M€ | H36: =Paramètres!C9 -> 10 | I36: =Paramètres!D9 -> 10 | J36: 250 | K36: =Paramètres!E9 -> 8234 | L36: =TRUNC(K36*1.2) -> 9880 | M36: =IF($G$30=C36,K36,0) -> 0 | N36: =M36*1.2 -> 0
C37: PME | D37: Petites et Moyennes Entreprises | F37: 26 à 250 | G37: < 50 M€ | H37: =Paramètres!C10 -> 5 | I37: =Paramètres!D10 -> 15 | J37: 250 | K37: =Paramètres!E10 -> 2922 | L37: =TRUNC(K37*1.2) -> 3506 | M37: =IF($G$30=C37,K37,0) -> 0 | N37: =M37*1.2 -> 0
C38: TPE | D38: Très Petites Entreprises | F38: 1 à 25 | G38: < 2 M€ | H38: =Paramètres!C11 -> 3 | I38: =Paramètres!D11 -> 10 | J38: 250 | K38: =Paramètres!E11 -> 1297 | L38: =TRUNC(K38*1.2) -> 1556 | M38: =IF($G$30=C38,K38,0) -> 0 | N38: =M38*1.2 -> 0
C39: E&R | D39: Enseignement & Recherche | F39: N/A | G39: N/A | H39: =Paramètres!C12 -> 10 | I39: =Paramètres!D12 -> 30 | J39: 250 | K39: =Paramètres!E12 -> 1387 | L39: =TRUNC(K39*1.2) -> 1664 | M39: =IF($G$30=C39,K39,0) -> 0 | N39: =M39*1.2 -> 0
C41: Adhésions supplémentaires. A déclarer dans l'onglet "Adhérents" colonne D "Type d'Adhésion"
C42: Types d'Adhésions | H42: Nombre déclaré | J42: Max | K42: HT | L42: TTC (20%) | M42: TOTAL HT | N42: TOTAL TTC (20%)
C43: Adhésions doubles AFIS / INCOSE incluses | H43: =COUNTIF(Adhérents!$D$6:$D$421,Liste!A3) -> 0 | J43: =IFERROR(VLOOKUP($G$30,Paramètres!$B$8:$E$12,2,FALSE),"") | K43: gratuit | L43: gratuit | M43: gratuit | N43: gratuit
C44: Adhésions doubles AFIS / INCOSE Supplémentaires - Tarif réduit | H44: =IFERROR(IF(COUNTIF(Adhérents!$D$6:$D$421,Liste!A4)>VLOOKUP($G$30,Paramètres!$B$8:$E$12,3,FALSE),VLOOKUP($G$30,Paramètres!$B$8:$E$12,3,FALSE),COUNTIF(Adhérents!$D$6:$D$421,Liste!A4)),0) -> 0 | J44: =IFERROR(VLOOKUP($G$30,Paramètres!$B$8:$E$12,3,FALSE),"") | K44: =Paramètres!C16 -> 130 | L44: =Paramètres!C18 -> 156 | M44: =H44*K44 -> 0 | N44: =H44*L44 -> 0
C45: Adhésions doubles AFIS / INCOSE Supplémentaires - Plein Tarif | H45: =COUNTIF(Adhérents!D6:D421,Liste!A4)-H44 -> 0 | K45: =Paramètres!C15 -> 158 | L45: =Paramètres!C17 -> 189.6 | M45: =H45*K45 -> 0 | N45: =H45*L45 -> 0
C46: Adhésions doubles AFIS / INCOSE Supplémentaires - étudiant | H46: =COUNTIF(Adhérents!D6:D422,Liste!A5) -> 0 | K46: =Paramètres!D15 -> 43 | L46: =Paramètres!D17 -> 51.6 | M46: =H46*K46 -> 0 | N46: =H46*L46 -> 0
C47: Adhésions Associée AFIS seul - Gratuit | H47: =COUNTIF(Adhérents!D6:D422,Liste!A2) -> 0 | J47: 250 | K47: gratuit | L47: gratuit | M47: gratuit | N47: gratuit
C49: Autres achats à préciser
C50: Autre / A Préciser (sponsoring, don,…) | L50: =K50*1.2 -> 0 | M50: =K50 -> 0 | N50: =M50*1.2 -> 0
C51: Autre / A Préciser (sponsoring, don,…) | L51: =K51*1.2 -> 0 | M51: =K51 -> 0 | N51: =M51*1.2 -> 0
C52: Autre / A Préciser (sponsoring, don,…) | L52: =K52*1.2 -> 0 | M52: =K52 -> 0 | N52: =M52*1.2 -> 0
K53: Total à payer | M53: =SUM(M35:M52) -> 0 | N53: =M53*1.2 -> 0
K54: 63.33
B55: Devis, Facturation et Paiement
C57: Un devis est-il nécessaire?* | F57: NON
...

Sheet Adhérents
A1: =IF(COUNTIF(C6:C421,"Titulaire")=0,"Il faut déclarer un Administrateur Titulaire",IF(COUNTIF(C6:C421,"Titulaire")>1,"Il faut UN SEUL Administrateur Titulaire","")) -> Il faut déclarer un Administrateur Titulaire | D1: ="Nombre d'Adhésions doubles AFIS/INCOSE incluses : "&'Bulletin Adhésion Membre'!H43&" sur "&'Bulletin Adhésion Membre'!J43&" maximum" -> Nombre d'Adhésions doubles AFIS/INCOSE incluses : 0 sur maximum
A2: =IF(COUNTIF(C6:C421,"Suppléant 1")=0,"Il est recommandé de déclarer un Administrateur Suppléant","") -> Il est recommandé de déclarer un Administrateur Suppléant | D2: ="Nombre d'Adhésions doubles AFIS/INCOSE supplémentaires tarif réduit : "&'Bulletin Adhésion Membre'!H44&" sur "&'Bulletin Adhésion Membre'!J44&" maximum" -> Nombre d'Adhésions doubles AFIS/INCOSE supplémentaires tarif réduit : 0 sur maximum
A3: =IF((COUNTIF(C6:C421,"Suppléant 1")+COUNTIF(C6:C421,"Suppléant 2"))>2,"Il faut déclarer au plus 2 Administrateurs Suppléants",IF(COUNTIF(C6:C421,"Suppléant 2")>1,"Il faut déclarer au plus un Suppléant 2",IF(COUNTIF(C6:C421,"Suppléant 1")>1,"Il faut déclarer au plus un Suppléant 1",""))) | D3: ="Nombre d'Adhésions doubles AFIS/INCOSE supplémentaires plein tarif : "&'Bulletin Adhésion Membre'!H45 -> Nombre d'Adhésions doubles AFIS/INCOSE supplémentaires plein tarif : 0
D4: ="Nombre d'Adhésionss AFIS seule gratuites : "&'Bulletin Adhésion Membre'!H47&" sur "&'Bulletin Adhésion Membre'!J47&" maximum" -> Nombre d'Adhésionss AFIS seule gratuites : 0 sur 250 maximum
A5: "Administrateur" et "Type d'Adhésion" Explications sans l'onglet "NOTICE - A lire !" | B5: N° | C5: Administrateurs | D5: Type d'Adhésion. Pour les adhésions supplémentaires, elle seront automatiquement comptées au tarif réduit jusqu'à la limite maximale dépendant du collège | E5: Catégorie adhérent | F5: N°INCOSE (Si existant) | G5: Civilité | H5: Nom | I5: Prénom | J5: Email | K5: Code postal | L5: Souhait Chapitre Régional | M5: Choix Comité Thématique 1 | N5: Choix Comité Thématique 2 | O5: Choix Comité Thématique 3
B6: 1 | L6: Sur la base du code postal
B7: 2 | L7: Sur la base du code postal
B8: 3 | L8: Sur la base du code postal
B9: 4 | L9: Sur la base du code postal
B10: 5 | L10: Sur la base du code postal
B11: 6 | L11: Sur la base du code postal
B12: 7 | L12: Sur la base du code postal
B13: 8 | L13: Sur la base du code postal
B14: 9 | L14: Sur la base du code postal
B15: 10 | L15: Sur la base du code postal
B16: 11 | L16: Sur la base du code postal
B17: 12 | L17: Sur la base du code postal
... B421: 416 | L421: Sur la base du code postal

Sheet Import Auto (Réservé à l'AFIS)
A1: Prénom | B1: Nom | C1: Email | D1: Code postal | E1: Pays | F1: Sexe | G1: Montant de l'opération | H1: Moyen de paiement | I1: Date de l'opération | J1: Date de début de l'adhésion | K1: Date de fin de l'adhésion | L1: Type Adhésion | M1: Catégorie Adhérent | N1: Entreprise / Organisation | O1: Numéro INCOSE | P1: Niveau d'Adhésion | Q1: Type Tarif | R1: Je souhaite recevoir les mails de communication de l'AFIS | S1: J'ai confirmé souhaiter rester dans la base de données le : | T1: Souhait de participation aux Comités Thématiques (Vous pourrez le modifier en cours d'année) | U1: Souhait de participation aux Chapitres Régionaux
A2: =Adhérents!I6 -> 0 | B2: =Adhérents!H6 -> 0 | C2: =Adhérents!J6 -> 0 | D2: =Adhérents!K6 -> 0 | E2: France | F2: =IF(Adhérents!G6="M.","M",IF(Adhérents!G6="Mme","F","")) | G2: 0 | H2: Virement | I2: =TODAY() -> 46300 | J2: =Paramètres!$C$22 -> 46296 | K2: =Paramètres!$C$23 -> 46843 | L2: =IF('Bulletin Adhésion Membre'!$G$30="TPE","Adhérent relevant d'un Membre TPE",IF('Bulletin Adhésion Membre'!$G$30="PME","Adhérent relevant d'un Membre PME",IF('Bulletin Adhésion Membre'!$G$30="ETI","Adhérent relevant d'un Membre ETI",IF('Bulletin Adhésion Membre'!$G$30="GG","Adhérent relevant d'un Membre GG",IF('Bulletin Adhésion Membre'!$G$30="E&R","Adhérent relevant d'un Membre E&R"))))) -> FALSE | M2: =Adhérents!E6 -> 0 | N2: ='Bulletin Adhésion Membre'!$B$24 | O2: =Adhérents!F6 -> 0 | P2: =IFERROR(VLOOKUP(Adhérents!D6,Liste!$A$2:$B$5,2,FALSE),"") | Q2: =IFERROR(IF(COUNTIF(Adhérents!D$6:D6,Liste!$A$4)>VLOOKUP('Bulletin Adhésion Membre'!$G$30,Paramètres!$B$8:$D$12,3,FALSE),VLOOKUP(Adhérents!D6,Liste!$A$2:$D$5,4,FALSE),VLOOKUP(Adhérents!D6,Liste!$A$2:$D$5,3,FALSE)),"") | R2: Oui | S2: 46022 | T2: =CONCATENATE(Adhérents!M6,IF(Adhérents!N6<>0,"|",""),Adhérents!N6,IF(Adhérents!O6<>0,"|",""),Adhérents!O6) | U2: =IFERROR(IF(Adhérents!L6="Sur la base du code postal","Chapitre "&VLOOKUP(VALUE(LEFT(Adhérents!K6,2)),Liste!$N$2:$Q$102,4,FALSE),"Chapitre "&Adhérents!L6),"")
A3: =Adhérents!I7 -> 0 | B3: =Adhérents!H7 -> 0 | C3: =Adhérents!J7 -> 0 | D3: =Adhérents!K7 -> 0 | E3: France | F3: =IF(Adhérents!G7="M.","M",IF(Adhérents!G7="Mme","F","")) | G3: 0 | H3: Virement | I3: =TODAY() -> 46300 | J3: =Paramètres!$C$22 -> 46296 | K3: =Paramètres!$C$23 -> 46843 | L3: =IF('Bulletin Adhésion Membre'!$G$30="TPE","Adhérent relevant d'un Membre TPE",IF('Bulletin Adhésion Membre'!$G$30="PME","Adhérent relevant d'un Membre PME",IF('Bulletin Adhésion Membre'!$G$30="ETI","Adhérent relevant d'un Membre ETI",IF('Bulletin Adhésion Membre'!$G$30="GG","Adhérent relevant d'un Membre GG",IF('Bulletin Adhésion Membre'!$G$30="E&R","Adhérent relevant d'un Membre E&R"))))) -> FALSE | M3: =Adhérents!E7 -> 0 | N3: ='Bulletin Adhésion Membre'!$B$24 | O3: =Adhérents!F7 -> 0 | P3: =IFERROR(VLOOKUP(Adhérents!D7,Liste!$A$2:$B$5,2,FALSE),"") | Q3: =IFERROR(IF(COUNTIF(Adhérents!D$6:D7,Liste!$A$4)>VLOOKUP('Bulletin Adhésion Membre'!$G$30,Paramètres!$B$8:$D$12,3,FALSE),VLOOKUP(Adhérents!D7,Liste!$A$2:$D$5,4,FALSE),VLOOKUP(Adhérents!D7,Liste!$A$2:$D$5,3,FALSE)),"") | R3: Oui | S3: 46022 | T3: =CONCATENATE(Adhérents!M7,IF(Adhérents!N7<>0,"|",""),Adhérents!N7,IF(Adhérents!O7<>0,"|",""),Adhérents!O7) | U3: =IFERROR(IF(Adhérents!L7="Sur la base du code postal","Chapitre "&VLOOKUP(VALUE(LEFT(Adhérents!K7,2)),Liste!$N$2:$Q$102,4,FALSE),"Chapitre "&Adhérents!L7),"")
A4: =Adhérents!I8 -> 0 | B4: =Adhérents!H8 -> 0 | C4: =Adhérents!J8 -> 0 | D4: =Adhérents!K8 -> 0 | E4: France | F4: =IF(Adhérents!G8="M.","M",IF(Adhérents!G8="Mme","F","")) | G4: 0 | H4: Virement | I4: =TODAY() -> 46300 | J4: =Paramètres!$C$22 -> 46296 | K4: =Paramètres!$C$23 -> 46843 | L4: =IF('Bulletin Adhésion Membre'!$G$30="TPE","Adhérent relevant d'un Membre TPE",IF('Bulletin Adhésion Membre'!$G$30="PME","Adhérent relevant d'un Membre PME",IF('Bulletin Adhésion Membre'!$G$30="ETI","Adhérent relevant d'un Membre ETI",IF('Bulletin Adhésion Membre'!$G$30="GG","Adhérent relevant d'un Membre GG",IF('Bulletin Adhésion Membre'!$G$30="E&R","Adhérent relevant d'un Membre E&R"))))) -> FALSE | M4: =Adhérents!E8 -> 0 | N4: ='Bulletin Adhésion Membre'!$B$24 | O4: =Adhérents!F8 -> 0 | P4: =IFERROR(VLOOKUP(Adhérents!D8,Liste!$A$2:$B$5,2,FALSE),"") | Q4: =IFERROR(IF(COUNTIF(Adhérents!D$6:D8,Liste!$A$4)>VLOOKUP('Bulletin Adhésion Membre'!$G$30,Paramètres!$B$8:$D$12,3,FALSE),VLOOKUP(Adhérents!D8,Liste!$A$2:$D$5,4,FALSE),VLOOKUP(Adhérents!D8,Liste!$A$2:$D$5,3,FALSE)),"") | R4: Oui | S4: 46022 | T4: =CONCATENATE(Adhérents!M8,IF(Adhérents!N8<>0,"|",""),Adhérents!N8,IF(Adhérents!O8<>0,"|",""),Adhérents!O8) | U4: =IFERROR(IF(Adhérents!L8="Sur la base du code postal","Chapitre "&VLOOKUP(VALUE(LEFT(Adhérents!K8,2)),Liste!$N$2:$Q$102,4,FALSE),"Chapitre "&Adhérents!L8),"")
A5: =Adhérents!I9 -> 0 | B5: =Adhérents!H9 -> 0 | C5: =Adhérents!J9 -> 0 | D5: =Adhérents!K9 -> 0 | E5: France | F5: =IF(Adhérents!G9="M.","M",IF(Adhérents!G9="Mme","F","")) | G5: 0 | H5: Virement | I5: =TODAY() -> 46300 | J5: =Paramètres!$C$22 -> 46296 | K5: =Paramètres!$C$23 -> 46843 | L5: =IF('Bulletin Adhésion Membre'!$G$30="TPE","Adhérent relevant d'un Membre TPE",IF('Bulletin Adhésion Membre'!$G$30="PME","Adhérent relevant d'un Membre PME",IF('Bulletin Adhésion Membre'!$G$30="ETI","Adhérent relevant d'un Membre ETI",IF('Bulletin Adhésion Membre'!$G$30="GG","Adhérent relevant d'un Membre GG",IF('Bulletin Adhésion Membre'!$G$30="E&R","Adhérent relevant d'un Membre E&R"))))) -> FALSE | M5: =Adhérents!E9 -> 0 | N5: ='Bulletin Adhésion Membre'!$B$24 | O5: =Adhérents!F9 -> 0 | P5: =IFERROR(VLOOKUP(Adhérents!D9,Liste!$A$2:$B$5,2,FALSE),"") | Q5: =IFERROR(IF(COUNTIF(Adhérents!D$6:D9,Liste!$A$4)>VLOOKUP('Bulletin Adhésion Membre'!$G$30,Paramètres!$B$8:$D$12,3,FALSE),VLOOKUP(Adhérents!D9,Liste!$A$2:$D$5,4,FALSE),VLOOKUP(Adhérents!D9,Liste!$A$2:$D$5,3,FALSE)),"") | R5: Oui | S5: 46022 | T5: =CONCATENATE(Adhérents!M9,IF(Adhérents!N9<>0,"|",""),Adhérents!N9,IF(Adhérents!O9<>0,"|",""),Adhérents!O9) | U5: =IFERROR(IF(Adhérents!L9="Sur la base du code postal","Chapitre "&VLOOKUP(VALUE(LEFT(Adhérents!K9,2)),Liste!$N$2:$Q$102,4,FALSE),"Chapitre "&Adhérents!L9),"")
A6: =Adhérents!I10 -> 0 | B6: =Adhérents!H10 -> 0 | C6: =Adhérents!J10 -> 0 | D6: =Adhérents!K10 -> 0 | E6: France | F6: =IF(Adhérents!G10="M.","M",IF(Adhérents!G10="Mme","F","")) | G6: 0 | H6: Virement | I6: =TODAY() -> 46300 | J6: =Paramètres!$C$22 -> 46296 | K6: =Paramètres!$C$23 -> 46843 | L6: =IF('Bulletin Adhésion Membre'!$G$30="TPE","Adhérent relevant d'un Membre TPE",IF('Bulletin Adhésion Membre'!$G$30="PME","Adhérent relevant d'un Membre PME",IF('Bulletin Adhésion Membre'!$G$30="ETI","Adhérent relevant d'un Membre ETI",IF('Bulletin Adhésion Membre'!$G$30="GG","Adhérent relevant d'un Membre GG",IF('Bulletin Adhésion Membre'!$G$30="E&R","Adhérent relevant d'un Membre E&R"))))) -> FALSE | M6: =Adhérents!E10 -> 0 | N6: ='Bulletin Adhésion Membre'!$B$24 | O6: =Adhérents!F10 -> 0 | P6: =IFERROR(VLOOKUP(Adhérents!D10,Liste!$A$2:$B$5,2,FALSE),"") | Q6: =IFERROR(IF(COUNTIF(Adhérents!D$6:D10,Liste!$A$4)>VLOOKUP('Bulletin Adhésion Membre'!$G$30,Paramètres!$B$8:$D$12,3,FALSE),VLOOKUP(Adhérents!D10,Liste!$A$2:$D$5,4,FALSE),VLOOKUP(Adhérents!D10,Liste!$A$2:$D$5,3,FALSE)),"") | R6: Oui | S6: 46022 | T6: =CONCATENATE(Adhérents!M10,IF(Adhérents!N10<>0,"|",""),Adhérents!N10,IF(Adhérents!O10<>0,"|",""),Adhérents!O10) | U6: =IFERROR(IF(Adhérents!L10="Sur la base du code postal","Chapitre "&VLOOKUP(VALUE(LEFT(Adhérents!K10,2)),Liste!$N$2:$Q$102,4,FALSE),"Chapitre "&Adhérents!L10),"")
A7: =Adhérents!I11 -> 0 | B7: =Adhérents!H11 -> 0 | C7: =Adhérents!J11 -> 0 | D7: =Adhérents!K11 -> 0 | E7: France | F7: =IF(Adhérents!G11="M.","M",IF(Adhérents!G11="Mme","F","")) | G7: 0 | H7: Virement | I7: =TODAY() -> 46300 | J7: =Paramètres!$C$22 -> 46296 | K7: =Paramètres!$C$23 -> 46843 | L7: =IF('Bulletin Adhésion Membre'!$G$30="TPE","Adhérent relevant d'un Membre TPE",IF('Bulletin Adhésion Membre'!$G$30="PME","Adhérent relevant d'un Membre PME",IF('Bulletin Adhésion Membre'!$G$30="ETI","Adhérent relevant d'un Membre ETI",IF('Bulletin Adhésion Membre'!$G$30="GG","Adhérent relevant d'un Membre GG",IF('Bulletin Adhésion Membre'!$G$30="E&R","Adhérent relevant d'un Membre E&R"))))) -> FALSE | M7: =Adhérents!E11 -> 0 | N7: ='Bulletin Adhésion Membre'!$B$24 | O7: =Adhérents!F11 -> 0 | P7: =IFERROR(VLOOKUP(Adhérents!D11,Liste!$A$2:$B$5,2,FALSE),"") | Q7: =IFERROR(IF(COUNTIF(Adhérents!D$6:D11,Liste!$A$4)>VLOOKUP('Bulletin Adhésion Membre'!$G$30,Paramètres!$B$8:$D$12,3,FALSE),VLOOKUP(Adhérents!D11,Liste!$A$2:$D$5,4,FALSE),VLOOKUP(Adhérents!D11,Liste!$A$2:$D$5,3,FALSE)),"") | R7: Oui | S7: 46022 | T7: =CONCATENATE(Adhérents!M11,IF(Adhérents!N11<>0,"|",""),Adhérents!N11,IF(Adhérents!O11<>0,"|",""),Adhérents!O11) | U7: =IFERROR(IF(Adhérents!L11="Sur la base du code postal","Chapitre "&VLOOKUP(VALUE(LEFT(Adhérents!K11,2)),Liste!$N$2:$Q$102,4,FALSE),"Chapitre "&Adhérents!L11),"")
A8: =Adhérents!I12 -> 0 | B8: =Adhérents!H12 -> 0 | C8: =Adhérents!J12 -> 0 | D8: =Adhérents!K12 -> 0 | E8: France | F8: =IF(Adhérents!G12="M.","M",IF(Adhérents!G12="Mme","F","")) | G8: 0 | H8: Virement | I8: =TODAY() -> 46300 | J8: =Paramètres!$C$22 -> 46296 | K8: =Paramètres!$C$23 -> 46843 | L8: =IF('Bulletin Adhésion Membre'!$G$30="TPE","Adhérent relevant d'un Membre TPE",IF('Bulletin Adhésion Membre'!$G$30="PME","Adhérent relevant d'un Membre PME",IF('Bulletin Adhésion Membre'!$G$30="ETI","Adhérent relevant d'un Membre ETI",IF('Bulletin Adhésion Membre'!$G$30="GG","Adhérent relevant d'un Membre GG",IF('Bulletin Adhésion Membre'!$G$30="E&R","Adhérent relevant d'un Membre E&R"))))) -> FALSE | M8: =Adhérents!E12 -> 0 | N8: ='Bulletin Adhésion Membre'!$B$24 | O8: =Adhérents!F12 -> 0 | P8: =IFERROR(VLOOKUP(Adhérents!D12,Liste!$A$2:$B$5,2,FALSE),"") | Q8: =IFERROR(IF(COUNTIF(Adhérents!D$6:D12,Liste!$A$4)>VLOOKUP('Bulletin Adhésion Membre'!$G$30,Paramètres!$B$8:$D$12,3,FALSE),VLOOKUP(Adhérents!D12,Liste!$A$2:$D$5,4,FALSE),VLOOKUP(Adhérents!D12,Liste!$A$2:$D$5,3,FALSE)),"") | R8: Oui | S8: 46022 | T8: =CONCATENATE(Adhérents!M12,IF(Adhérents!N12<>0,"|",""),Adhérents!N12,IF(Adhérents!O12<>0,"|",""),Adhérents!O12) | U8: =IFERROR(IF(Adhérents!L12="Sur la base du code postal","Chapitre "&VLOOKUP(VALUE(LEFT(Adhérents!K12,2)),Liste!$N$2:$Q$102,4,FALSE),"Chapitre "&Adhérents!L12),"")
A9: =Adhérents!I13 -> 0 | B9: =Adhérents!H13 -> 0 | C9: =Adhérents!J13 -> 0 | D9: =Adhérents!K13 -> 0 | E9: France | F9: =IF(Adhérents!G13="M.","M",IF(Adhérents!G13="Mme","F","")) | G9: 0 | H9: Virement | I9: =TODAY() -> 46300 | J9: =Paramètres!$C$22 -> 46296 | K9: =Paramètres!$C$23 -> 46843 | L9: =IF('Bulletin Adhésion Membre'!$G$30="TPE","Adhérent relevant d'un Membre TPE",IF('Bulletin Adhésion Membre'!$G$30="PME","Adhérent relevant d'un Membre PME",IF('Bulletin Adhésion Membre'!$G$30="ETI","Adhérent relevant d'un Membre ETI",IF('Bulletin Adhésion Membre'!$G$30="GG","Adhérent relevant d'un Membre GG",IF('Bulletin Adhésion Membre'!$G$30="E&R","Adhérent relevant d'un Membre E&R"))))) -> FALSE | M9: =Adhérents!E13 -> 0 | N9: ='Bulletin Adhésion Membre'!$B$24 | O9: =Adhérents!F13 -> 0 | P9: =IFERROR(VLOOKUP(Adhérents!D13,Liste!$A$2:$B$5,2,FALSE),"") | Q9: =IFERROR(IF(COUNTIF(Adhérents!D$6:D13,Liste!$A$4)>VLOOKUP('Bulletin Adhésion Membre'!$G$30,Paramètres!$B$8:$D$12,3,FALSE),VLOOKUP(Adhérents!D13,Liste!$A$2:$D$5,4,FALSE),VLOOKUP(Adhérents!D13,Liste!$A$2:$D$5,3,FALSE)),"") | R9: Oui | S9: 46022 | T9: =CONCATENATE(Adhérents!M13,IF(Adhérents!N13<>0,"|",""),Adhérents!N13,IF(Adhérents!O13<>0,"|",""),Adhérents!O13) | U9: =IFERROR(IF(Adhérents!L13="Sur la base du code postal","Chapitre "&VLOOKUP(VALUE(LEFT(Adhérents!K13,2)),Liste!$N$2:$Q$102,4,FALSE),"Chapitre "&Adhérents!L13),"")
A10: =Adhérents!I14 -> 0 | B10: =Adhérents!H14 -> 0 | C10: =Adhérents!J14 -> 0 | D10: =Adhérents!K14 -> 0 | E10: France | F10: =IF(Adhérents!G14="M.","M",IF(Adhérents!G14="Mme","F","")) | G10: 0 | H10: Virement | I10: =TODAY() -> 46300 | J10: =Paramètres!$C$22 -> 46296 | K10: =Paramètres!$C$23 -> 46843 | L10: =IF('Bulletin Adhésion Membre'!$G$30="TPE","Adhérent relevant d'un Membre TPE",IF('Bulletin Adhésion Membre'!$G$30="PME","Adhérent relevant d'un Membre PME",IF('Bulletin Adhésion Membre'!$G$30="ETI","Adhérent relevant d'un Membre ETI",IF('Bulletin Adhésion Membre'!$G$30="GG","Adhérent relevant d'un Membre GG",IF('Bulletin Adhésion Membre'!$G$30="E&R","Adhérent relevant d'un Membre E&R"))))) -> FALSE | M10: =Adhérents!E14 -> 0 | N10: ='Bulletin Adhésion Membre'!$B$24 | O10: =Adhérents!F14 -> 0 | P10: =IFERROR(VLOOKUP(Adhérents!D14,Liste!$A$2:$B$5,2,FALSE),"") | Q10: =IFERROR(IF(COUNTIF(Adhérents!D$6:D14,Liste!$A$4)>VLOOKUP('Bulletin Adhésion Membre'!$G$30,Paramètres!$B$8:$D$12,3,FALSE),VLOOKUP(Adhérents!D14,Liste!$A$2:$D$5,4,FALSE),VLOOKUP(Adhérents!D14,Liste!$A$2:$D$5,3,FALSE)),"") | R10: Oui | S10: 46022 | T10: =CONCATENATE(Adhérents!M14,IF(Adhérents!N14<>0,"|",""),Adhérents!N14,IF(Adhérents!O14<>0,"|",""),Adhérents!O14) | U10: =IFERROR(IF(Adhérents!L14="Sur la base du code postal","Chapitre "&VLOOKUP(VALUE(LEFT(Adhérents!K14,2)),Liste!$N$2:$Q$102,4,FALSE),"Chapitre "&Adhérents!L14),"")
A11: =Adhérents!I15 -> 0 | B11: =Adhérents!H15 -> 0 | C11: =Adhérents!J15 -> 0 | D11: =Adhérents!K15 -> 0 | E11: France | F11: =IF(Adhérents!G15="M.","M",IF(Adhérents!G15="Mme","F","")) | G11: 0 | H11: Virement | I11: =TODAY() -> 46300 | J11: =Paramètres!$C$22 -> 46296 | K11: =Paramètres!$C$23 -> 46843 | L11: =IF('Bulletin Adhésion Membre'!$G$30="TPE","Adhérent relevant d'un Membre TPE",IF('Bulletin Adhésion Membre'!$G$30="PME","Adhérent relevant d'un Membre PME",IF('Bulletin Adhésion Membre'!$G$30="ETI","Adhérent relevant d'un Membre ETI",IF('Bulletin Adhésion Membre'!$G$30="GG","Adhérent relevant d'un Membre GG",IF('Bulletin Adhésion Membre'!$G$30="E&R","Adhérent relevant d'un Membre E&R"))))) -> FALSE | M11: =Adhérents!E15 -> 0 | N11: ='Bulletin Adhésion Membre'!$B$24 | O11: =Adhérents!F15 -> 0 | P11: =IFERROR(VLOOKUP(Adhérents!D15,Liste!$A$2:$B$5,2,FALSE),"") | Q11: =IFERROR(IF(COUNTIF(Adhérents!D$6:D15,Liste!$A$4)>VLOOKUP('Bulletin Adhésion Membre'!$G$30,Paramètres!$B$8:$D$12,3,FALSE),VLOOKUP(Adhérents!D15,Liste!$A$2:$D$5,4,FALSE),VLOOKUP(Adhérents!D15,Liste!$A$2:$D$5,3,FALSE)),"") | R11: Oui | S11: 46022 | T11: =CONCATENATE(Adhérents!M15,IF(Adhérents!N15<>0,"|",""),Adhérents!N15,IF(Adhérents!O15<>0,"|",""),Adhérents!O15) | U11: =IFERROR(IF(Adhérents!L15="Sur la base du code postal","Chapitre "&VLOOKUP(VALUE(LEFT(Adhérents!K15,2)),Liste!$N$2:$Q$102,4,FALSE),"Chapitre "&Adhérents!L15),"")
A12: =Adhérents!I16 -> 0 | B12: =Adhérents!H16 -> 0 | C12: =Adhérents!J16 -> 0 | D12: =Adhérents!K16 -> 0 | E12: France | F12: =IF(Adhérents!G16="M.","M",IF(Adhérents!G16="Mme","F","")) | G12: 0 | H12: Virement | I12: =TODAY() -> 46300 | J12: =Paramètres!$C$22 -> 46296 | K12: =Paramètres!$C$23 -> 46843 | L12: =IF('Bulletin Adhésion Membre'!$G$30="TPE","Adhérent relevant d'un Membre TPE",IF('Bulletin Adhésion Membre'!$G$30="PME","Adhérent relevant d'un Membre PME",IF('Bulletin Adhésion Membre'!$G$30="ETI","Adhérent relevant d'un Membre ETI",IF('Bulletin Adhésion Membre'!$G$30="GG","Adhérent relevant d'un Membre GG",IF('Bulletin Adhésion Membre'!$G$30="E&R","Adhérent relevant d'un Membre E&R"))))) -> FALSE | M12: =Adhérents!E16 -> 0 | N12: ='Bulletin Adhésion Membre'!$B$24 | O12: =Adhérents!F16 -> 0 | P12: =IFERROR(VLOOKUP(Adhérents!D16,Liste!$A$2:$B$5,2,FALSE),"") | Q12: =IFERROR(IF(COUNTIF(Adhérents!D$6:D16,Liste!$A$4)>VLOOKUP('Bulletin Adhésion Membre'!$G$30,Paramètres!$B$8:$D$12,3,FALSE),VLOOKUP(Adhérents!D16,Liste!$A$2:$D$5,4,FALSE),VLOOKUP(Adhérents!D16,Liste!$A$2:$D$5,3,FALSE)),"") | R12: Oui | S12: 46022 | T12: =CONCATENATE(Adhérents!M16,IF(Adhérents!N16<>0,"|",""),Adhérents!N16,IF(Adhérents!O16<>0,"|",""),Adhérents!O16) | U12: =IFERROR(IF(Adhérents!L16="Sur la base du code postal","Chapitre "&VLOOKUP(VALUE(LEFT(Adhérents!K16,2)),Liste!$N$2:$Q$102,4,FALSE),"Chapitre "&Adhérents!L16),"")
A13: =Adhérents!I17 -> 0 | B13: =Adhérents!H17 -> 0 | C13: =Adhérents!J17 -> 0 | D13: =Adhérents!K17 -> 0 | E13: France | F13: =IF(Adhérents!G17="M.","M",IF(Adhérents!G17="Mme","F","")) | G13: 0 | H13: Virement | I13: =TODAY() -> 46300 | J13: =Paramètres!$C$22 -> 46296 | K13: =Paramètres!$C$23 -> 46843 | L13: =IF('Bulletin Adhésion Membre'!$G$30="TPE","Adhérent relevant d'un Membre TPE",IF('Bulletin Adhésion Membre'!$G$30="PME","Adhérent relevant d'un Membre PME",IF('Bulletin Adhésion Membre'!$G$30="ETI","Adhérent relevant d'un Membre ETI",IF('Bulletin Adhésion Membre'!$G$30="GG","Adhérent relevant d'un Membre GG",IF('Bulletin Adhésion Membre'!$G$30="E&R","Adhérent relevant d'un Membre E&R"))))) -> FALSE | M13: =Adhérents!E17 -> 0 | N13: ='Bulletin Adhésion Membre'!$B$24 | O13: =Adhérents!F17 -> 0 | P13: =IFERROR(VLOOKUP(Adhérents!D17,Liste!$A$2:$B$5,2,FALSE),"") | Q13: =IFERROR(IF(COUNTIF(Adhérents!D$6:D17,Liste!$A$4)>VLOOKUP('Bulletin Adhésion Membre'!$G$30,Paramètres!$B$8:$D$12,3,FALSE),VLOOKUP(Adhérents!D17,Liste!$A$2:$D$5,4,FALSE),VLOOKUP(Adhérents!D17,Liste!$A$2:$D$5,3,FALSE)),"") | R13: Oui | S13: 46022 | T13: =CONCATENATE(Adhérents!M17,IF(Adhérents!N17<>0,"|",""),Adhérents!N17,IF(Adhérents!O17<>0,"|",""),Adhérents!O17) | U13: =IFERROR(IF(Adhérents!L17="Sur la base du code postal","Chapitre "&VLOOKUP(VALUE(LEFT(Adhérents!K17,2)),Liste!$N$2:$Q$102,4,FALSE),"Chapitre "&Adhérents!L17),"")
... A417: =Adhérents!I421 -> 0 | B417: =Adhérents!H421 -> 0 | C417: =Adhérents!J421 -> 0 | D417: =Adhérents!K421 -> 0 | E417: France | F417: =IF(Adhérents!G421="M.","M",IF(Adhérents!G421="Mme","F","")) | G417: 0 | H417: Virement | I417: =TODAY() -> 46300 | J417: =Paramètres!$C$22 -> 46296 | K417: =Paramètres!$C$23 -> 46843 | L417: =IF('Bulletin Adhésion Membre'!$G$30="TPE","Adhérent relevant d'un Membre TPE",IF('Bulletin Adhésion Membre'!$G$30="PME","Adhérent relevant d'un Membre PME",IF('Bulletin Adhésion Membre'!$G$30="ETI","Adhérent relevant d'un Membre ETI",IF('Bulletin Adhésion Membre'!$G$30="GG","Adhérent relevant d'un Membre GG",IF('Bulletin Adhésion Membre'!$G$30="E&R","Adhérent relevant d'un Membre E&R"))))) -> FALSE | M417: =Adhérents!E421 -> 0 | N417: ='Bulletin Adhésion Membre'!$B$24 | O417: =Adhérents!F421 -> 0 | P417: =IFERROR(VLOOKUP(Adhérents!D421,Liste!$A$2:$B$5,2,FALSE),"") | Q417: =IFERROR(IF(COUNTIF(Adhérents!D$6:D421,Liste!$A$4)>VLOOKUP('Bulletin Adhésion Membre'!$G$30,Paramètres!$B$8:$D$12,3,FALSE),VLOOKUP(Adhérents!D421,Liste!$A$2:$D$5,4,FALSE),VLOOKUP(Adhérents!D421,Liste!$A$2:$D$5,3,FALSE)),"") | R417: Oui | S417: 46022 | T417: =CONCATENATE(Adhérents!M421,IF(Adhérents!N421<>0,"|",""),Adhérents!N421,IF(Adhérents!O421<>0,"|",""),Adhérents!O421) | U417: =IFERROR(IF(Adhérents!L421="Sur la base du code postal","Chapitre "&VLOOKUP(VALUE(LEFT(Adhérents!K421,2)),Liste!$N$2:$Q$102,4,FALSE),"Chapitre "&Adhérents!L421),"")

Sheet Paramètres
B7: Collège | C7: Nb adhésions incluses | D7: Nb adhésions tarif réduit | E7: Adhésion HT
B8: GG | C8: 15 | D8: 50 | E8: 12351
B9: ETI | C9: 10 | D9: 10 | E9: 8234
B10: PME | C10: 5 | D10: 15 | E10: 2922
B11: TPE | C11: 3 | D11: 10 | E11: 1297
B12: E&R | C12: 10 | D12: 30 | E12: 1387
B14: Tarifs | C14: Standard | D14: Etudiant
B15: Plein tarif HT | C15: 158 | D15: 43
B16: Traif réduit HT | C16: 130
B17: Plein tarif TTC | C17: =C15*1.2 -> 189.6 | D17: =D15*1.2 -> 51.6
B18: Traif réduit TTC | C18: =C16*1.2 -> 156
C21: Dates
B22: Début Adhésion | C22: 46296
B23: Fin d'adhésion | C23: 46843

Sheet Liste
A1: Niveau d'adhésion | B1: Niveau d'adhésion | C1: Type Tarif 1 | D1: Type Tarif 2 | E1: Civilité | F1: Chapitre Régional | G1: Catégorie Adhérent | H1: Souhaits Comités Thématiques | I1: Oui/Non | J1: Collège | K1: N° Batch | M1: Administrateurs | N1: Départements | P1: Région | Q1: Chapitre local | S1: Régions | T1: Chapitre Local
A2: Associée AFIS seule | Gratuit | B2: AFIS | C2: Gratuit | D2: Gratuit | E2: M. | F2: Centre Val de Loire (CVDL) | G2: Etudiant M1/M2 | H2: CT 3SAI - Systèmes de Systèmes et Services | I2: X | J2: GG | K2: INCOSE 2026 | M2: Titulaire | N2: 01 | O2: Ain | P2: Auvergne-Rhône-Alpes | Q2: =IF(VLOOKUP(P2,$S$2:$T$19,2,FALSE)=0,"",VLOOKUP(P2,$S$2:$T$19,2,FALSE)) -> Rhône Alpes Auvergne (CRRA) | S2: Auvergne-Rhône-Alpes | T2: =F6 -> Rhône Alpes Auvergne (CRRA)
A3: Double AFIS+INCOSE |Incluses | B3: AFIS INCOSE | C3: Plein Tarif | D3: Plein Tarif | E3: Mme | F3: Grand Est | G3: Doctorant / Jeune Docteur | H3: CT FC - Formation et Compétences | J3: ETI | K3: Associé | M3: Suppléant 1 | N3: 02 | O3: Aisne | P3: Hauts-de-France | Q3: =IF(VLOOKUP(P3,$S$2:$T$19,2,FALSE)=0,"",VLOOKUP(P3,$S$2:$T$19,2,FALSE)) | S3: Hauts-de-France
A4: Double AFIS+INCOSE |Supplémentaire | B4: AFIS INCOSE | C4: Tarif Réduit | D4: Plein Tarif | F4: Ile-de-France | G4: Enseignant et/ou Chercheur | H4: CT FH - Facteurs Humains | J4: PME | M4: Suppléant 2 | N4: 03 | O4: Allier | P4: Auvergne-Rhône-Alpes | Q4: =IF(VLOOKUP(P4,$S$2:$T$19,2,FALSE)=0,"",VLOOKUP(P4,$S$2:$T$19,2,FALSE)) -> Rhône Alpes Auvergne (CRRA) | S4: Provence-Alpes-Côte d'Azur | T4: =F7 -> Sud
A5: Double AFIS+INCOSE |Supplémentaire - Etudiant | B5: AFIS INCOSE | C5: Plein Tarif | D5: Plein Tarif | F5: Occitanie (CROcc) | G5: Industriel | H5: CT GC - Gestion de Configuration | J5: TPE | N5: 04 | O5: Alpes-de-Haute-Provence | P5: Provence-Alpes-Côte d'Azur | Q5: =IF(VLOOKUP(P5,$S$2:$T$19,2,FALSE)=0,"",VLOOKUP(P5,$S$2:$T$19,2,FALSE)) -> Sud | S5: Grand Est | T5: =F3 -> Grand Est
F6: Rhône Alpes Auvergne (CRRA) | H6: CT IA - Intelligence Artificielle | J6: E&R | N6: 05 | O6: Hautes-Alpes | P6: Provence-Alpes-Côte d'Azur | Q6: =IF(VLOOKUP(P6,$S$2:$T$19,2,FALSE)=0,"",VLOOKUP(P6,$S$2:$T$19,2,FALSE)) -> Sud | S6: Occitanie | T6: =F5 -> Occitanie (CROcc)
F7: Sud | H7: CT ISDR - Ingénierie Système Durable et Responsable | N7: 06 | O7: Alpes-Maritimes | P7: Provence-Alpes-Côte d'Azur | Q7: =IF(VLOOKUP(P7,$S$2:$T$19,2,FALSE)=0,"",VLOOKUP(P7,$S$2:$T$19,2,FALSE)) -> Sud | S7: Normandie
F8: Sur la base du code postal | H8: CT ISTN - Ingénierie Système & Transformation Numérique | N8: 07 | O8: Ardèche | P8: Auvergne-Rhône-Alpes | Q8: =IF(VLOOKUP(P8,$S$2:$T$19,2,FALSE)=0,"",VLOOKUP(P8,$S$2:$T$19,2,FALSE)) -> Rhône Alpes Auvergne (CRRA) | S8: Nouvelle-Aquitaine
H9: CT MBSE - Model Based System Engineering | N9: 08 | O9: Ardennes | P9: Grand Est | Q9: =IF(VLOOKUP(P9,$S$2:$T$19,2,FALSE)=0,"",VLOOKUP(P9,$S$2:$T$19,2,FALSE)) -> Grand Est | S9: Centre-Val de Loire | T9: =F2 -> Centre Val de Loire (CVDL)
H10: CT MIS - Management de l'IS | N10: 09 | O10: Ariège | P10: Occitanie | Q10: =IF(VLOOKUP(P10,$S$2:$T$19,2,FALSE)=0,"",VLOOKUP(P10,$S$2:$T$19,2,FALSE)) -> Occitanie (CROcc) | S10: Corse
H11: CT PG-C2VS - Processus Globaux et du Cycle de vie | N11: 10 | O11: Aube | P11: Grand Est | Q11: =IF(VLOOKUP(P11,$S$2:$T$19,2,FALSE)=0,"",VLOOKUP(P11,$S$2:$T$19,2,FALSE)) -> Grand Est | S11: Bourgogne-Franche-Comté
H12: CT PS - Penser Système | N12: 11 | O12: Aude | P12: Occitanie | Q12: =IF(VLOOKUP(P12,$S$2:$T$19,2,FALSE)=0,"",VLOOKUP(P12,$S$2:$T$19,2,FALSE)) -> Occitanie (CROcc) | S12: Bretagne
H13: CT RIIS - Recherches et Innovations en IS | N13: 12 | O13: Aveyron | P13: Occitanie | Q13: =IF(VLOOKUP(P13,$S$2:$T$19,2,FALSE)=0,"",VLOOKUP(P13,$S$2:$T$19,2,FALSE)) -> Occitanie (CROcc) | S13: Pays de la Loire
H14: CT SV2S - Sûreté Validation et Soutien des Systèmes | N14: 13 | O14: Bouches-du-Rhône | P14: Provence-Alpes-Côte d'Azur | Q14: =IF(VLOOKUP(P14,$S$2:$T$19,2,FALSE)=0,"",VLOOKUP(P14,$S$2:$T$19,2,FALSE)) -> Sud | S14: Ile-de-France | T14: =F4 -> Ile-de-France
N15: 14 | O15: Calvados | P15: Normandie | Q15: =IF(VLOOKUP(P15,$S$2:$T$19,2,FALSE)=0,"",VLOOKUP(P15,$S$2:$T$19,2,FALSE)) | S15: Guadeloupe
N16: 15 | O16: Cantal | P16: Auvergne-Rhône-Alpes | Q16: =IF(VLOOKUP(P16,$S$2:$T$19,2,FALSE)=0,"",VLOOKUP(P16,$S$2:$T$19,2,FALSE)) -> Rhône Alpes Auvergne (CRRA) | S16: Martinique
N17: 16 | O17: Charente | P17: Nouvelle-Aquitaine | Q17: =IF(VLOOKUP(P17,$S$2:$T$19,2,FALSE)=0,"",VLOOKUP(P17,$S$2:$T$19,2,FALSE)) | S17: Guyane
N18: 17 | O18: Charente-Maritime | P18: Nouvelle-Aquitaine | Q18: =IF(VLOOKUP(P18,$S$2:$T$19,2,FALSE)=0,"",VLOOKUP(P18,$S$2:$T$19,2,FALSE)) | S18: La Réunion
N19: 18 | O19: Cher | P19: Centre-Val de Loire | Q19: =IF(VLOOKUP(P19,$S$2:$T$19,2,FALSE)=0,"",VLOOKUP(P19,$S$2:$T$19,2,FALSE)) -> Centre Val de Loire (CVDL) | S19: Mayotte
N20: 19 | O20: Corrèze | P20: Nouvelle-Aquitaine | Q20: =IF(VLOOKUP(P20,$S$2:$T$19,2,FALSE)=0,"",VLOOKUP(P20,$S$2:$T$19,2,FALSE))
N21: 2A | O21: Corse-du-Sud | P21: Corse | Q21: =IF(VLOOKUP(P21,$S$2:$T$19,2,FALSE)=0,"",VLOOKUP(P21,$S$2:$T$19,2,FALSE))
N22: 2B | O22: Haute-Corse | P22: Corse | Q22: =IF(VLOOKUP(P22,$S$2:$T$19,2,FALSE)=0,"",VLOOKUP(P22,$S$2:$T$19,2,FALSE))
N23: 21 | O23: Côte-d'Or | P23: Bourgogne-Franche-Comté | Q23: =IF(VLOOKUP(P23,$S$2:$T$19,2,FALSE)=0,"",VLOOKUP(P23,$S$2:$T$19,2,FALSE))
N24: 22 | O24: Côtes d'Armor | P24: Bretagne | Q24: =IF(VLOOKUP(P24,$S$2:$T$19,2,FALSE)=0,"",VLOOKUP(P24,$S$2:$T$19,2,FALSE))
N25: 23 | O25: Creuse | P25: Nouvelle-Aquitaine | Q25: =IF(VLOOKUP(P25,$S$2:$T$19,2,FALSE)=0,"",VLOOKUP(P25,$S$2:$T$19,2,FALSE))
N26: 24 | O26: Dordogne | P26: Nouvelle-Aquitaine | Q26: =IF(VLOOKUP(P26,$S$2:$T$19,2,FALSE)=0,"",VLOOKUP(P26,$S$2:$T$19,2,FALSE))
N27: 25 | O27: Doubs | P27: Bourgogne-Franche-Comté | Q27: =IF(VLOOKUP(P27,$S$2:$T$19,2,FALSE)=0,"",VLOOKUP(P27,$S$2:$T$19,2,FALSE))
N28: 26 | O28: Drôme | P28: Auvergne-Rhône-Alpes | Q28: =IF(VLOOKUP(P28,$S$2:$T$19,2,FALSE)=0,"",VLOOKUP(P28,$S$2:$T$19,2,FALSE)) -> Rhône Alpes Auvergne (CRRA)
N29: 27 | O29: Eure | P29: Normandie | Q29: =IF(VLOOKUP(P29,$S$2:$T$19,2,FALSE)=0,"",VLOOKUP(P29,$S$2:$T$19,2,FALSE))
N30: 28 | O30: Eure-et-Loir | P30: Centre-Val de Loire | Q30: =IF(VLOOKUP(P30,$S$2:$T$19,2,FALSE)=0,"",VLOOKUP(P30,$S$2:$T$19,2,FALSE)) -> Centre Val de Loire (CVDL)
N31: 29 | O31: Finistère | P31: Bretagne | Q31: =IF(VLOOKUP(P31,$S$2:$T$19,2,FALSE)=0,"",VLOOKUP(P31,$S$2:$T$19,2,FALSE))
N32: 30 | O32: Gard | P32: Occitanie | Q32: =IF(VLOOKUP(P32,$S$2:$T$19,2,FALSE)=0,"",VLOOKUP(P32,$S$2:$T$19,2,FALSE)) -> Occitanie (CROcc)
N33: 31 | O33: Haute-Garonne | P33: Occitanie | Q33: =IF(VLOOKUP(P33,$S$2:$T$19,2,FALSE)=0,"",VLOOKUP(P33,$S$2:$T$19,2,FALSE)) -> Occitanie (CROcc)
N34: 32 | O34: Gers | P34: Occitanie | Q34: =IF(VLOOKUP(P34,$S$2:$T$19,2,FALSE)=0,"",VLOOKUP(P34,$S$2:$T$19,2,FALSE)) -> Occitanie (CROcc)
... N102: 976 | O102: Mayotte | P102: Mayotte | Q102: =IF(VLOOKUP(P102,$S$2:$T$19,2,FALSE)=0,"",VLOOKUP(P102,$S$2:$T$19,2,FALSE))
